BEGIN:VCALENDAR
VERSION:2.0
PRODID:-//Froglife - ECPv6.15.20//NONSGML v1.0//EN
CALSCALE:GREGORIAN
METHOD:PUBLISH
X-WR-CALNAME:Froglife
X-ORIGINAL-URL:https://www.froglife.org
X-WR-CALDESC:Events for Froglife
REFRESH-INTERVAL;VALUE=DURATION:PT1H
X-Robots-Tag:noindex
X-PUBLISHED-TTL:PT1H
BEGIN:VTIMEZONE
TZID:UTC
BEGIN:STANDARD
TZOFFSETFROM:+0000
TZOFFSETTO:+0000
TZNAME:UTC
DTSTART:20240101T000000
END:STANDARD
END:VTIMEZONE
BEGIN:VEVENT
DTSTART;TZID=UTC:20250415T080000
DTEND;TZID=UTC:20290416T170000
DTSTAMP:20260423T013010
CREATED:20250415T141344Z
LAST-MODIFIED:20250415T141440Z
UID:32967-1744704000-1871053200@www.froglife.org
SUMMARY:Wild Memories Somerset - nature and wildlife groups for people living with dementia
DESCRIPTION:We’re all about enjoying the outdoors\, getting active and having fun in a relaxed setting. We’re always open for new members so why not join us! \n\nMondays 14.00-16.00 in Mells\nTuesdays 11.00-13.00 in Frome\nWednesdays 14.00-16.00 in Frome\n\n(Frome sessions are usually at our dementia friendly allotment plot at Welshmill but call ahead as we sometimes go elsewhere!) \n*Our sessions are running every week. We have spaces available\, give us a call to sign up or for any queries. All sessions are free to attend* \n\nEmail: zak.mathergratton@froglife.org\nPhone: 07949 572849\n\n \nWe do all sorts of things. From digging ponds\, building wildlife homes and gardening\, to creating art & seasonal crafts\, writing poems and sharing stories\, always finishing off with the all important tea and biscuits. \nOur activities are guided by peoples’ preferences and abilities as well as the weather and the season. The sessions are free to attend and we can provide free transport. Carers and family members are more than welcome to join us. \nIf you are living with dementia\, symptoms of memory loss\, or you are caring for someone who is\, then please get in touch
URL:https://www.froglife.org/event/wild-memories-somerset-nature-and-wildlife-groups-for-people-living-with-dementia/
CATEGORIES:Dementia,Somerset
ATTACH;FMTTYPE=image/jpeg:https://www.froglife.org/wp-content/uploads/2025/04/20241007_153443-scaled.jpg
ORGANIZER;CN="Somerset Green Pathways for Life":MAILTO:zak.mathergratton@froglife.org
END:VEVENT
BEGIN:VEVENT
DTSTART;VALUE=DATE:20260423
DTEND;VALUE=DATE:20260425
DTSTAMP:20260423T013010
CREATED:20251017T125626Z
LAST-MODIFIED:20251017T125626Z
UID:34201-1776902400-1777075199@www.froglife.org
SUMMARY:Great Crested Newt- Working Towards a Licence in Peterborough
DESCRIPTION:This two-day Great Crested Newt – Working Towards a Licence course is for those interested in gaining a Great Crested Newt survey or research level 1 Licence.\n \nThe course is designed for individuals with experience of working with Great Crested Newts and will consist of a theory session followed by an assessed practical session at a local nature reserve.\n \nThe course will cover great crested newt identification and ecology\, survey techniques\, the Habitat Suitability Index (HSI) and will include opportunities to demonstrate refuge searching\, netting\, bottle trapping\, torch and egg searching.\n \nThe approximate timings for the course are as follows and will vary slightly depending on sunset timings:\n \n– Day one classroom theory session will start at 0930hrs and finish at 1400hrs this will be held at Brightfield Business Hub\, Bakewell Road\, Orton Southgate\, Peterborough\, PE2 6XU (please ensure you come to the BBH Reception at Main entrance not the car auction at the rear of the building)\n \nThe fieldwork session will take place at Hampton Nature Reserve\, SSSI\, Nature’s Way\, TL 164 941. Nearest postcode: PE7 8NG.\n \n– Day one fieldwork session will start approximately at 1900hrs and finish at 2200hrs. (Time dependent on sunset)– Day two fieldwork session will start at approximately 0800hrs and finish at 1100hrs. This session will also involve an identification test and HSI assessment.\n \nYou will be assessed during the course and upon successful completion of the identification test a certificate will be given to support an application to Natural England for a Great Crested Newt licence.\n \nFor the fieldwork sessions you will need to bring: suitable outdoor clothing for fieldwork; Wellington boots\, or other suitable outdoor footwear. Warm and waterproof clothing with a change of spare clothing advised. A powerful torch (>1 million candlepower) for surveying and a headtorch or smaller torch for moving between ponds is advisable.\n \nFroglife will provide bottle traps and accompanying equipment. If weather conditions dictate that bottle traps can’t be left out overnight\, then the candidate will still be assessed on bottle trap placement in the pond.\n \nThere will be further information sent through two weeks prior to your course.\n \nBOOK HERE
URL:https://www.froglife.org/event/great-crested-newt-working-towards-a-licence-in-peterborough-6/
LOCATION:Brightfield Business Hub\, Bakewell Road\, Orton Southgate\, Peterborough\, Cambridgeshire\, PE2 6XU\, United Kingdom
CATEGORIES:Peterborough
ATTACH;FMTTYPE=image/jpeg:https://www.froglife.org/wp-content/uploads/2025/02/20220325_081023-scaled-e1760704529995.jpg
END:VEVENT
BEGIN:VEVENT
DTSTART;TZID=UTC:20260423T100000
DTEND;TZID=UTC:20260423T120000
DTSTAMP:20260423T013010
CREATED:20260312T164825Z
LAST-MODIFIED:20260416T144833Z
UID:34962-1776938400-1776945600@www.froglife.org
SUMMARY:Wild Times London – Dementia-Friendly Nature Group – Streatham Rookery\, London
DESCRIPTION:Our Wild Times sessions include: wildlife gardening\, vegetable growing\, nature walks & talks\, nature-inspired creative activities and opportunities to share memories and socialise with others. \nDuring this session we work alongside and socialise with Streatham Common Cooperative staff and volunteers. \nFree places are available! To find out more and get involved\, visit our webpage\, or email rose.williams@froglife.org \n  \n  \n\nLeaping Forward for Dementia London is supported by The National Lottery Community Fund. Thanks to National Lottery players\, we have been able to continue to run our popular Wild Times groups in south London for people affected by dementia.
URL:https://www.froglife.org/event/wild-times-london-dementia-friendly-nature-group-streatham-rookery-london-9/
LOCATION:Rookery Gardens\, Streatham Common\, Streatham Common\, SW16 3HR
CATEGORIES:Dementia,London
ATTACH;FMTTYPE=image/jpeg:https://www.froglife.org/wp-content/uploads/2026/02/PXL_20251009_093712606.TS-000.MP_-scaled.jpg
ORGANIZER;CN="Rose Williams":MAILTO:rose.williams@froglife.org
END:VEVENT
BEGIN:VEVENT
DTSTART;TZID=UTC:20260423T100000
DTEND;TZID=UTC:20260423T150000
DTSTAMP:20260423T013010
CREATED:20260225T124309Z
LAST-MODIFIED:20260225T124309Z
UID:34858-1776938400-1776956400@www.froglife.org
SUMMARY:Volunteer Day – Hampton Nature reserve
DESCRIPTION:Fancy a green workout and make a difference to your local green space? Then come and join us to assist maintaining the reserve for the amphibians and reptiles that live there. \nThis season volunteers assist with site maintenance\, such as scrub clearance and pond management. The reserve is privately owned\, making volunteering the only way to gain access. \nChildren are welcome however need to be under supervision by a responsible adult. \nPlease bring a drink with you as well as weather appropriate clothing for the day. Please wear closed toed shoes or boots and wear trousers. \nStart times may vary depending on tasks for the day. \nTo join a volunteer day at Hampton Nature Reserve\, please contact Clare Middleton on clare.middleton@froglife.org
URL:https://www.froglife.org/event/volunteer-day-hampton-nature-reserve-13/
LOCATION:Hampton Nature Reserve\, Nature's Way\, Hampton\, Peterborough\, Cambridgeshire\, PE7 8JG\, United Kingdom
CATEGORIES:Peterborough
ATTACH;FMTTYPE=image/jpeg:https://www.froglife.org/wp-content/uploads/2025/12/20250828_112227.jpg
ORGANIZER;CN="Clare Middleton":MAILTO:clare.middleton@froglife.org
END:VEVENT
END:VCALENDAR