BEGIN:VCALENDAR
VERSION:2.0
PRODID:-//Froglife - ECPv6.15.20//NONSGML v1.0//EN
CALSCALE:GREGORIAN
METHOD:PUBLISH
X-ORIGINAL-URL:https://www.froglife.org
X-WR-CALDESC:Events for Froglife
REFRESH-INTERVAL;VALUE=DURATION:PT1H
X-Robots-Tag:noindex
X-PUBLISHED-TTL:PT1H
BEGIN:VTIMEZONE
TZID:UTC
BEGIN:STANDARD
TZOFFSETFROM:+0000
TZOFFSETTO:+0000
TZNAME:UTC
DTSTART:20250101T000000
END:STANDARD
END:VTIMEZONE
BEGIN:VEVENT
DTSTART;VALUE=DATE:20260423
DTEND;VALUE=DATE:20260425
DTSTAMP:20260417T034851
CREATED:20251017T125626Z
LAST-MODIFIED:20251017T125626Z
UID:34201-1776902400-1777075199@www.froglife.org
SUMMARY:Great Crested Newt- Working Towards a Licence in Peterborough
DESCRIPTION:This two-day Great Crested Newt – Working Towards a Licence course is for those interested in gaining a Great Crested Newt survey or research level 1 Licence.\n \nThe course is designed for individuals with experience of working with Great Crested Newts and will consist of a theory session followed by an assessed practical session at a local nature reserve.\n \nThe course will cover great crested newt identification and ecology\, survey techniques\, the Habitat Suitability Index (HSI) and will include opportunities to demonstrate refuge searching\, netting\, bottle trapping\, torch and egg searching.\n \nThe approximate timings for the course are as follows and will vary slightly depending on sunset timings:\n \n– Day one classroom theory session will start at 0930hrs and finish at 1400hrs this will be held at Brightfield Business Hub\, Bakewell Road\, Orton Southgate\, Peterborough\, PE2 6XU (please ensure you come to the BBH Reception at Main entrance not the car auction at the rear of the building)\n \nThe fieldwork session will take place at Hampton Nature Reserve\, SSSI\, Nature’s Way\, TL 164 941. Nearest postcode: PE7 8NG.\n \n– Day one fieldwork session will start approximately at 1900hrs and finish at 2200hrs. (Time dependent on sunset)– Day two fieldwork session will start at approximately 0800hrs and finish at 1100hrs. This session will also involve an identification test and HSI assessment.\n \nYou will be assessed during the course and upon successful completion of the identification test a certificate will be given to support an application to Natural England for a Great Crested Newt licence.\n \nFor the fieldwork sessions you will need to bring: suitable outdoor clothing for fieldwork; Wellington boots\, or other suitable outdoor footwear. Warm and waterproof clothing with a change of spare clothing advised. A powerful torch (>1 million candlepower) for surveying and a headtorch or smaller torch for moving between ponds is advisable.\n \nFroglife will provide bottle traps and accompanying equipment. If weather conditions dictate that bottle traps can’t be left out overnight\, then the candidate will still be assessed on bottle trap placement in the pond.\n \nThere will be further information sent through two weeks prior to your course.\n \nBOOK HERE
URL:https://www.froglife.org/event/great-crested-newt-working-towards-a-licence-in-peterborough-6/
LOCATION:Brightfield Business Hub\, Bakewell Road\, Orton Southgate\, Peterborough\, Cambridgeshire\, PE2 6XU\, United Kingdom
CATEGORIES:Peterborough
ATTACH;FMTTYPE=image/jpeg:https://www.froglife.org/wp-content/uploads/2025/02/20220325_081023-scaled-e1760704529995.jpg
END:VEVENT
BEGIN:VEVENT
DTSTART;TZID=UTC:20260423T100000
DTEND;TZID=UTC:20260423T150000
DTSTAMP:20260417T034851
CREATED:20260225T124309Z
LAST-MODIFIED:20260225T124309Z
UID:34858-1776938400-1776956400@www.froglife.org
SUMMARY:Volunteer Day – Hampton Nature reserve
DESCRIPTION:Fancy a green workout and make a difference to your local green space? Then come and join us to assist maintaining the reserve for the amphibians and reptiles that live there. \nThis season volunteers assist with site maintenance\, such as scrub clearance and pond management. The reserve is privately owned\, making volunteering the only way to gain access. \nChildren are welcome however need to be under supervision by a responsible adult. \nPlease bring a drink with you as well as weather appropriate clothing for the day. Please wear closed toed shoes or boots and wear trousers. \nStart times may vary depending on tasks for the day. \nTo join a volunteer day at Hampton Nature Reserve\, please contact Clare Middleton on clare.middleton@froglife.org
URL:https://www.froglife.org/event/volunteer-day-hampton-nature-reserve-13/
LOCATION:Hampton Nature Reserve\, Nature's Way\, Hampton\, Peterborough\, Cambridgeshire\, PE7 8JG\, United Kingdom
CATEGORIES:Peterborough
ATTACH;FMTTYPE=image/jpeg:https://www.froglife.org/wp-content/uploads/2025/12/20250828_112227.jpg
ORGANIZER;CN="Clare Middleton":MAILTO:clare.middleton@froglife.org
END:VEVENT
BEGIN:VEVENT
DTSTART;TZID=UTC:20260430T100000
DTEND;TZID=UTC:20260430T150000
DTSTAMP:20260417T034851
CREATED:20260225T124354Z
LAST-MODIFIED:20260225T124354Z
UID:34860-1777543200-1777561200@www.froglife.org
SUMMARY:Volunteer Day – Hampton Nature reserve
DESCRIPTION:Fancy a green workout and make a difference to your local green space? Then come and join us to assist maintaining the reserve for the amphibians and reptiles that live there. \nThis season volunteers assist with site maintenance\, such as scrub clearance and pond management. The reserve is privately owned\, making volunteering the only way to gain access. \nChildren are welcome however need to be under supervision by a responsible adult. \nPlease bring a drink with you as well as weather appropriate clothing for the day. Please wear closed toed shoes or boots and wear trousers. \nStart times may vary depending on tasks for the day. \nTo join a volunteer day at Hampton Nature Reserve\, please contact Clare Middleton on clare.middleton@froglife.org
URL:https://www.froglife.org/event/volunteer-day-hampton-nature-reserve-14/
LOCATION:Hampton Nature Reserve\, Nature's Way\, Hampton\, Peterborough\, Cambridgeshire\, PE7 8JG\, United Kingdom
CATEGORIES:Peterborough
ATTACH;FMTTYPE=image/jpeg:https://www.froglife.org/wp-content/uploads/2025/12/IMG-20250522-WA0008.jpg
ORGANIZER;CN="Clare Middleton":MAILTO:clare.middleton@froglife.org
END:VEVENT
BEGIN:VEVENT
DTSTART;VALUE=DATE:20260507
DTEND;VALUE=DATE:20260509
DTSTAMP:20260417T034851
CREATED:20251017T125831Z
LAST-MODIFIED:20251017T125831Z
UID:34203-1778112000-1778284799@www.froglife.org
SUMMARY:Great Crested Newt- Working Towards a Licence in Peterborough
DESCRIPTION:This two-day Great Crested Newt – Working Towards a Licence course is for those interested in gaining a Great Crested Newt survey or research level 1 Licence.\n \nThe course is designed for individuals with experience of working with Great Crested Newts and will consist of a theory session followed by an assessed practical session at a local nature reserve.\n \nThe course will cover great crested newt identification and ecology\, survey techniques\, the Habitat Suitability Index (HSI) and will include opportunities to demonstrate refuge searching\, netting\, bottle trapping\, torch and egg searching.\n \nThe approximate timings for the course are as follows and will vary slightly depending on sunset timings:\n \n– Day one classroom theory session will start at 0930hrs and finish at 1400hrs this will be held at Brightfield Business Hub\, Bakewell Road\, Orton Southgate\, Peterborough\, PE2 6XU (please ensure you come to the BBH Reception at Main entrance not the car auction at the rear of the building)\n \nThe fieldwork session will take place at Hampton Nature Reserve\, SSSI\, Nature’s Way\, TL 164 941. Nearest postcode: PE7 8NG.\n \n– Day one fieldwork session will start approximately at 1900hrs and finish at 2200hrs. (Time dependent on sunset)– Day two fieldwork session will start at approximately 0800hrs and finish at 1100hrs. This session will also involve an identification test and HSI assessment.\n \nYou will be assessed during the course and upon successful completion of the identification test a certificate will be given to support an application to Natural England for a Great Crested Newt licence.\n \nFor the fieldwork sessions you will need to bring: suitable outdoor clothing for fieldwork; Wellington boots\, or other suitable outdoor footwear. Warm and waterproof clothing with a change of spare clothing advised. A powerful torch (>1 million candlepower) for surveying and a headtorch or smaller torch for moving between ponds is advisable.\n \nFroglife will provide bottle traps and accompanying equipment. If weather conditions dictate that bottle traps can’t be left out overnight\, then the candidate will still be assessed on bottle trap placement in the pond.\n \nThere will be further information sent through two weeks prior to your course.\n \nBOOK HERE
URL:https://www.froglife.org/event/great-crested-newt-working-towards-a-licence-in-peterborough-7/
LOCATION:Brightfield Business Hub\, Bakewell Road\, Orton Southgate\, Peterborough\, Cambridgeshire\, PE2 6XU\, United Kingdom
CATEGORIES:Peterborough
ATTACH;FMTTYPE=image/jpeg:https://www.froglife.org/wp-content/uploads/2025/02/20220325_081023-scaled-e1760704529995.jpg
END:VEVENT
BEGIN:VEVENT
DTSTART;TZID=UTC:20260509T100000
DTEND;TZID=UTC:20260509T150000
DTSTAMP:20260417T034851
CREATED:20260225T124704Z
LAST-MODIFIED:20260225T124704Z
UID:34866-1778320800-1778338800@www.froglife.org
SUMMARY:Saturday Volunteer Day – Hampton Nature Reserve
DESCRIPTION:Fancy a green workout and make a difference to your local green space? Then come and join us to assist maintaining the reserve for the amphibians and reptiles that live there. \nThis season volunteers assist with site maintenance\, such as scrub clearance and pond management. The reserve is privately owned\, making volunteering the only way to gain access. \nChildren are welcome however need to be under supervision by a responsible adult. \nPlease bring a drink with you as well as weather appropriate clothing for the day. Please wear closed toed shoes or boots and wear trousers. \nStart times may vary depending on tasks for the day. \nTo join a volunteer day at Hampton Nature Reserve\, please contact Clare Middleton on clare.middleton@froglife.org
URL:https://www.froglife.org/event/saturday-volunteer-day-hampton-nature-reserve-4/
LOCATION:Hampton Nature Reserve\, Nature's Way\, Hampton\, Peterborough\, Cambridgeshire\, PE7 8JG\, United Kingdom
CATEGORIES:Peterborough
ATTACH;FMTTYPE=image/jpeg:https://www.froglife.org/wp-content/uploads/2025/10/Kitchener-green-spaces-poster.jpg
ORGANIZER;CN="Clare Middleton":MAILTO:clare.middleton@froglife.org
END:VEVENT
BEGIN:VEVENT
DTSTART;VALUE=DATE:20260514
DTEND;VALUE=DATE:20260516
DTSTAMP:20260417T034851
CREATED:20251017T130043Z
LAST-MODIFIED:20251017T130043Z
UID:34205-1778716800-1778889599@www.froglife.org
SUMMARY:Great Crested Newt- Working Towards a Licence in Peterborough
DESCRIPTION:This two-day Great Crested Newt – Working Towards a Licence course is for those interested in gaining a Great Crested Newt survey or research level 1 Licence.\n \nThe course is designed for individuals with experience of working with Great Crested Newts and will consist of a theory session followed by an assessed practical session at a local nature reserve.\n \nThe course will cover great crested newt identification and ecology\, survey techniques\, the Habitat Suitability Index (HSI) and will include opportunities to demonstrate refuge searching\, netting\, bottle trapping\, torch and egg searching.\n \nThe approximate timings for the course are as follows and will vary slightly depending on sunset timings:\n \n– Day one classroom theory session will start at 0930hrs and finish at 1400hrs this will be held at Brightfield Business Hub\, Bakewell Road\, Orton Southgate\, Peterborough\, PE2 6XU (please ensure you come to the BBH Reception at Main entrance not the car auction at the rear of the building)\n \nThe fieldwork session will take place at Hampton Nature Reserve\, SSSI\, Nature’s Way\, TL 164 941. Nearest postcode: PE7 8NG.\n \n– Day one fieldwork session will start approximately at 1900hrs and finish at 2200hrs. (Time dependent on sunset)– Day two fieldwork session will start at approximately 0800hrs and finish at 1100hrs. This session will also involve an identification test and HSI assessment.\n \nYou will be assessed during the course and upon successful completion of the identification test a certificate will be given to support an application to Natural England for a Great Crested Newt licence.\n \nFor the fieldwork sessions you will need to bring: suitable outdoor clothing for fieldwork; Wellington boots\, or other suitable outdoor footwear. Warm and waterproof clothing with a change of spare clothing advised. A powerful torch (>1 million candlepower) for surveying and a headtorch or smaller torch for moving between ponds is advisable.\n \nFroglife will provide bottle traps and accompanying equipment. If weather conditions dictate that bottle traps can’t be left out overnight\, then the candidate will still be assessed on bottle trap placement in the pond.\n \nThere will be further information sent through two weeks prior to your course.\n \nBOOK HERE
URL:https://www.froglife.org/event/great-crested-newt-working-towards-a-licence-in-peterborough-8/
LOCATION:Brightfield Business Hub\, Bakewell Road\, Orton Southgate\, Peterborough\, Cambridgeshire\, PE2 6XU\, United Kingdom
CATEGORIES:Peterborough
ATTACH;FMTTYPE=image/jpeg:https://www.froglife.org/wp-content/uploads/2025/02/20220325_081023-scaled-e1760704529995.jpg
END:VEVENT
END:VCALENDAR