BEGIN:VCALENDAR
VERSION:2.0
PRODID:-//Froglife - ECPv6.15.20//NONSGML v1.0//EN
CALSCALE:GREGORIAN
METHOD:PUBLISH
X-ORIGINAL-URL:https://www.froglife.org
X-WR-CALDESC:Events for Froglife
REFRESH-INTERVAL;VALUE=DURATION:PT1H
X-Robots-Tag:noindex
X-PUBLISHED-TTL:PT1H
BEGIN:VTIMEZONE
TZID:UTC
BEGIN:STANDARD
TZOFFSETFROM:+0000
TZOFFSETTO:+0000
TZNAME:UTC
DTSTART:20250101T000000
END:STANDARD
END:VTIMEZONE
BEGIN:VEVENT
DTSTART;TZID=UTC:20260528T100000
DTEND;TZID=UTC:20260528T120000
DTSTAMP:20260420T122057
CREATED:20260312T170045Z
LAST-MODIFIED:20260416T144631Z
UID:34972-1779962400-1779969600@www.froglife.org
SUMMARY:Wild Times London – Dementia-Friendly Nature Group – Streatham Rookery\, London
DESCRIPTION:Our Wild Times sessions include: wildlife gardening\, vegetable growing\, nature walks & talks\, nature-inspired creative activities and opportunities to share memories and socialise with others. \nDuring this session we work alongside and socialise with Streatham Common Cooperative staff and volunteers. \nFree places are available! To find out more and get involved\, visit our webpage\, or email rose.williams@froglife.org \n  \n\nLeaping Forward for Dementia London is supported by The National Lottery Community Fund. Thanks to National Lottery players\, we have been able to continue to run our popular Wild Times groups in south London for people affected by dementia.
URL:https://www.froglife.org/event/wild-times-london-dementia-friendly-nature-group-streatham-rookery-london-14/
LOCATION:Rookery Gardens\, Streatham Common\, Streatham Common\, SW16 3HR
CATEGORIES:Dementia,London
ATTACH;FMTTYPE=image/jpeg:https://www.froglife.org/wp-content/uploads/2026/02/PXL_20251009_093712606.TS-000.MP_-scaled.jpg
ORGANIZER;CN="Rose Williams":MAILTO:rose.williams@froglife.org
END:VEVENT
BEGIN:VEVENT
DTSTART;TZID=UTC:20260711T100000
DTEND;TZID=UTC:20260711T160000
DTSTAMP:20260420T122057
CREATED:20260123T092941Z
LAST-MODIFIED:20260416T110949Z
UID:34654-1783764000-1783785600@www.froglife.org
SUMMARY:Froglife Festival: Brighton
DESCRIPTION:Froglife Festival: Brighton – 11 July | 10am–4pm | Jubilee Square \nJoin us in the heart of Brighton for a fun-filled day celebrating wildlife and nature at the Brighton Froglife Festival! Taking place in Jubilee Square on 11th July\, this free event will be packed with exciting\, hands-on activities for both children and adults. \nActivities will be led by one of Froglife’s Trustees\, Gordon MacLellan\, zoologist\, teacher\, artist\, puppeteer\, and dancer who combines scientific and expressive fields to deliver creative activities.  \nDiscover amazing amphibians and reptiles\, get creative\, learn more about local wildlife\, and find out how you can help nature thrive in your community. Whether you’re a family looking for a great day out or a nature lover keen to learn something new\, there’ll be something for everyone to enjoy. \nPop along any time between 10am and 4pm and help us celebrate our spectacular species!
URL:https://www.froglife.org/event/brighton-froglife-festival/
LOCATION:Jubilee Square\, 17 Jubilee Street\, Brighton\, East Sussex\, BN1 1GE
END:VEVENT
END:VCALENDAR